BEGIN:VCALENDAR
VERSION:2.0
PRODID:-//Leanne Serena Music - ECPv6.15.20//NONSGML v1.0//EN
CALSCALE:GREGORIAN
METHOD:PUBLISH
X-WR-CALNAME:Leanne Serena Music
X-ORIGINAL-URL:https://leanneserenamusic.nl
X-WR-CALDESC:Evenementen voor Leanne Serena Music
REFRESH-INTERVAL;VALUE=DURATION:PT1H
X-Robots-Tag:noindex
X-PUBLISHED-TTL:PT1H
BEGIN:VTIMEZONE
TZID:Europe/Amsterdam
BEGIN:DAYLIGHT
TZOFFSETFROM:+0100
TZOFFSETTO:+0200
TZNAME:CEST
DTSTART:20220327T010000
END:DAYLIGHT
BEGIN:STANDARD
TZOFFSETFROM:+0200
TZOFFSETTO:+0100
TZNAME:CET
DTSTART:20221030T010000
END:STANDARD
BEGIN:DAYLIGHT
TZOFFSETFROM:+0100
TZOFFSETTO:+0200
TZNAME:CEST
DTSTART:20230326T010000
END:DAYLIGHT
BEGIN:STANDARD
TZOFFSETFROM:+0200
TZOFFSETTO:+0100
TZNAME:CET
DTSTART:20231029T010000
END:STANDARD
BEGIN:DAYLIGHT
TZOFFSETFROM:+0100
TZOFFSETTO:+0200
TZNAME:CEST
DTSTART:20240331T010000
END:DAYLIGHT
BEGIN:STANDARD
TZOFFSETFROM:+0200
TZOFFSETTO:+0100
TZNAME:CET
DTSTART:20241027T010000
END:STANDARD
END:VTIMEZONE
BEGIN:VEVENT
DTSTART;TZID=Europe/Amsterdam:20231124T200000
DTEND;TZID=Europe/Amsterdam:20231124T220000
DTSTAMP:20260422T041040
CREATED:20230905T085529Z
LAST-MODIFIED:20230905T085529Z
UID:290-1700856000-1700863200@leanneserenamusic.nl
SUMMARY:EP Release Show
DESCRIPTION:Met haar authentieke en heldere stem combineert singer-songwriter Leanne Serena americana met hedendaagse pop en folk. Onlangs verschenen de eerste singles van haar aankomende debuut-EP ‘Make It Home’ die op 24 november uitkomt. In haar muziek neemt ze je mee in haar reis naar volwassenheid met alle onzekerheden en gevoelens die daarbij komen kijken. Op vrijdag 24 november zal zij de release van deze EP vieren met een concert in JJ Music House. \nLeanne Serena was al vanaf jonge leeftijd bezig met zingen en tijdens haar middelbareschooltijd bloeide haar liefde voor muziek verder op. Ze heeft zichzelf piano en gitaar leren spelen\, ook is ze haar eerste eigen nummers gaan schrijven over alles wat haar inspireerde. Inmiddels is ze afgestudeerd aan het Conservatorium als ‘Bachelor Music in Education’\, staat ze voor de klas als muziekdocent en geeft ze zangles aan jong en oud. De 25-jarige zangeres woont inmiddels in Lansingerland\, maar komt voor haar releaseshow naar haar geliefde geboortestad Zoetermeer. Na twee keer tijdens JJ’s Sunday Afternoon te hebben opgetreden met covers\, is het nu tijd om haar eigen muziek te presenteren. Dit gaat ze doen met haar band op het podium van JJ Music House op 24 november. Voor fans van Lizzy McAlpine\, James Bay\, Taylor Swift\, Vance Joy\, Wild Rivers & The Paper Kites. \n  \nDeuren open: 20.00 \nAanvang: 20.30
URL:https://leanneserenamusic.nl/event/ep-release-show/
LOCATION:JJ Music House\, Van der Hagenstraat 34A\, Zoetermeer\, Zuid-Holland\, 2722 NT\, Nederland
CATEGORIES:Optreden
ATTACH;FMTTYPE=image/jpeg:https://leanneserenamusic.nl/wp-content/uploads/2023/07/IMG_6726-scaled.jpeg
END:VEVENT
END:VCALENDAR