BEGIN:VCALENDAR
VERSION:2.0
PRODID:-//Leanne Serena Music - ECPv6.15.20//NONSGML v1.0//EN
CALSCALE:GREGORIAN
METHOD:PUBLISH
X-ORIGINAL-URL:https://leanneserenamusic.nl
X-WR-CALDESC:Evenementen voor Leanne Serena Music
REFRESH-INTERVAL;VALUE=DURATION:PT1H
X-Robots-Tag:noindex
X-PUBLISHED-TTL:PT1H
BEGIN:VTIMEZONE
TZID:Europe/Amsterdam
BEGIN:DAYLIGHT
TZOFFSETFROM:+0100
TZOFFSETTO:+0200
TZNAME:CEST
DTSTART:20230326T010000
END:DAYLIGHT
BEGIN:STANDARD
TZOFFSETFROM:+0200
TZOFFSETTO:+0100
TZNAME:CET
DTSTART:20231029T010000
END:STANDARD
BEGIN:DAYLIGHT
TZOFFSETFROM:+0100
TZOFFSETTO:+0200
TZNAME:CEST
DTSTART:20240331T010000
END:DAYLIGHT
BEGIN:STANDARD
TZOFFSETFROM:+0200
TZOFFSETTO:+0100
TZNAME:CET
DTSTART:20241027T010000
END:STANDARD
BEGIN:DAYLIGHT
TZOFFSETFROM:+0100
TZOFFSETTO:+0200
TZNAME:CEST
DTSTART:20250330T010000
END:DAYLIGHT
BEGIN:STANDARD
TZOFFSETFROM:+0200
TZOFFSETTO:+0100
TZNAME:CET
DTSTART:20251026T010000
END:STANDARD
END:VTIMEZONE
BEGIN:VEVENT
DTSTART;VALUE=DATE:20240427
DTEND;VALUE=DATE:20240428
DTSTAMP:20260421T204333
CREATED:20240225T123254Z
LAST-MODIFIED:20240225T123736Z
UID:301-1714176000-1714262399@leanneserenamusic.nl
SUMMARY:Koningsdag 2024
DESCRIPTION:
URL:https://leanneserenamusic.nl/event/koningsdag-2024/
LOCATION:Zuid-Holland
CATEGORIES:Optreden
ATTACH;FMTTYPE=image/jpeg:https://leanneserenamusic.nl/wp-content/uploads/2024/02/IMG_0183-scaled.jpeg
END:VEVENT
END:VCALENDAR