BEGIN:VCALENDAR
VERSION:2.0
PRODID:-//Leanne Serena Music - ECPv6.15.20//NONSGML v1.0//EN
CALSCALE:GREGORIAN
METHOD:PUBLISH
X-WR-CALNAME:Leanne Serena Music
X-ORIGINAL-URL:https://leanneserenamusic.nl
X-WR-CALDESC:Evenementen voor Leanne Serena Music
REFRESH-INTERVAL;VALUE=DURATION:PT1H
X-Robots-Tag:noindex
X-PUBLISHED-TTL:PT1H
BEGIN:VTIMEZONE
TZID:Europe/Amsterdam
BEGIN:DAYLIGHT
TZOFFSETFROM:+0100
TZOFFSETTO:+0200
TZNAME:CEST
DTSTART:20220327T010000
END:DAYLIGHT
BEGIN:STANDARD
TZOFFSETFROM:+0200
TZOFFSETTO:+0100
TZNAME:CET
DTSTART:20221030T010000
END:STANDARD
BEGIN:DAYLIGHT
TZOFFSETFROM:+0100
TZOFFSETTO:+0200
TZNAME:CEST
DTSTART:20230326T010000
END:DAYLIGHT
BEGIN:STANDARD
TZOFFSETFROM:+0200
TZOFFSETTO:+0100
TZNAME:CET
DTSTART:20231029T010000
END:STANDARD
BEGIN:DAYLIGHT
TZOFFSETFROM:+0100
TZOFFSETTO:+0200
TZNAME:CEST
DTSTART:20240331T010000
END:DAYLIGHT
BEGIN:STANDARD
TZOFFSETFROM:+0200
TZOFFSETTO:+0100
TZNAME:CET
DTSTART:20241027T010000
END:STANDARD
END:VTIMEZONE
BEGIN:VEVENT
DTSTART;TZID=Europe/Amsterdam:20230422T130000
DTEND;TZID=Europe/Amsterdam:20230422T140000
DTSTAMP:20260422T151717
CREATED:20230414T140456Z
LAST-MODIFIED:20230414T140552Z
UID:236-1682168400-1682172000@leanneserenamusic.nl
SUMMARY:Radio Rijnmond
DESCRIPTION:Op 21 april komt mijn nieuwe single ‘Make It Home’ uit! Tussen 13.00 en 14.00 zal ik daarom live op Radio Rijnmond te horen zijn met een akoestische versie en zal ik vertellen hoe het nummer is ontstaan en waar het over gaat.
URL:https://leanneserenamusic.nl/event/radio-rijnmond/
LOCATION:Zuid-Holland
CATEGORIES:Optreden
ATTACH;FMTTYPE=image/png:https://leanneserenamusic.nl/wp-content/uploads/2023/04/logo_rijnmond.png
END:VEVENT
END:VCALENDAR