BEGIN:VCALENDAR
VERSION:2.0
PRODID:-//Leanne Serena Music - ECPv6.15.20//NONSGML v1.0//EN
CALSCALE:GREGORIAN
METHOD:PUBLISH
X-WR-CALNAME:Leanne Serena Music
X-ORIGINAL-URL:https://leanneserenamusic.nl
X-WR-CALDESC:Evenementen voor Leanne Serena Music
REFRESH-INTERVAL;VALUE=DURATION:PT1H
X-Robots-Tag:noindex
X-PUBLISHED-TTL:PT1H
BEGIN:VTIMEZONE
TZID:Europe/Amsterdam
BEGIN:DAYLIGHT
TZOFFSETFROM:+0100
TZOFFSETTO:+0200
TZNAME:CEST
DTSTART:20230326T010000
END:DAYLIGHT
BEGIN:STANDARD
TZOFFSETFROM:+0200
TZOFFSETTO:+0100
TZNAME:CET
DTSTART:20231029T010000
END:STANDARD
BEGIN:DAYLIGHT
TZOFFSETFROM:+0100
TZOFFSETTO:+0200
TZNAME:CEST
DTSTART:20240331T010000
END:DAYLIGHT
BEGIN:STANDARD
TZOFFSETFROM:+0200
TZOFFSETTO:+0100
TZNAME:CET
DTSTART:20241027T010000
END:STANDARD
BEGIN:DAYLIGHT
TZOFFSETFROM:+0100
TZOFFSETTO:+0200
TZNAME:CEST
DTSTART:20250330T010000
END:DAYLIGHT
BEGIN:STANDARD
TZOFFSETFROM:+0200
TZOFFSETTO:+0100
TZNAME:CET
DTSTART:20251026T010000
END:STANDARD
END:VTIMEZONE
BEGIN:VEVENT
DTSTART;TZID=Europe/Amsterdam:20240519T170000
DTEND;TZID=Europe/Amsterdam:20240519T180000
DTSTAMP:20260421T204431
CREATED:20240508T185120Z
LAST-MODIFIED:20240508T190439Z
UID:347-1716138000-1716141600@leanneserenamusic.nl
SUMMARY:Roparun RTV Lansingerland
DESCRIPTION:Leanne Serena zal om 17.00 live te horen zijn op RTV Lansingerland in het teken van de Roparun.
URL:https://leanneserenamusic.nl/event/roparun-rtv-lansingerland/
LOCATION:RTV Lansingerland
CATEGORIES:Optreden,Overig
ATTACH;FMTTYPE=image/jpeg:https://leanneserenamusic.nl/wp-content/uploads/2023/03/vQ1ld6ZVR0ih6aEJcz85Hg_thumb_d2b.jpg
END:VEVENT
END:VCALENDAR